BEGIN:VCALENDAR
VERSION:2.0
PRODID:-//wp-events-plugin.com//7.2.3.1//EN
BEGIN:VEVENT
UID:1@mustangsallymemorial.com
DTSTART;TZID=America/New_York;VALUE=DATE:20200718
DTEND;TZID=America/New_York;VALUE=DATE:20200719
DTSTAMP:20200510T185532Z
URL:https://mustangsallymemorial.com/events/mustang-sally-annual-golf-tour
 nament-july-18th-2020/
SUMMARY:Mustang Sally Annual Golf Tournament\, July 18th 2020
DESCRIPTION:Individual Golfer Prices\n1 - $165\n2 - $330\n3 - $495\n4 - $66
 0
ATTACH;FMTTYPE=image/jpeg:https://i0.wp.com/mustangsallymemorial.com/wp-co
 ntent/uploads/2020/03/JimmyFinishPose.png?fit=922%2C1234&ssl=1
LOCATION:Renditions Golf Course\, 1380 Central Ave\, Davidsonville\, MD\, 2
 1035\, United States
X-APPLE-STRUCTURED-LOCATION;VALUE=URI;X-ADDRESS=1380 Central Ave\, Davidson
 ville\, MD\, 21035\, United States;X-APPLE-RADIUS=100;X-TITLE=Renditions G
 olf Course:geo:0,0
END:VEVENT
BEGIN:VEVENT
UID:2@mustangsallymemorial.com
DTSTART;TZID=America/New_York;VALUE=DATE:20200718
DTEND;TZID=America/New_York;VALUE=DATE:20200719
DTSTAMP:20200507T231545Z
URL:https://mustangsallymemorial.com/events/2020-sponsorship-opportunities
 /
SUMMARY:2020 Sponsorship Opportunities
DESCRIPTION:Please email Jim Ring (Jim@ring-ring.com) with any questions on
  the above.
ATTACH;FMTTYPE=image/jpeg:https://i0.wp.com/mustangsallymemorial.com/wp-co
 ntent/uploads/2020/03/PJ-Lauren.png?fit=1850%2C1302&ssl=1
LOCATION:Renditions Golf Course\, 1380 Central Ave\, Davidsonville\, MD\, 2
 1035\, United States
X-APPLE-STRUCTURED-LOCATION;VALUE=URI;X-ADDRESS=1380 Central Ave\, Davidson
 ville\, MD\, 21035\, United States;X-APPLE-RADIUS=100;X-TITLE=Renditions G
 olf Course:geo:0,0
END:VEVENT
BEGIN:VTIMEZONE
TZID:America/New_York
X-LIC-LOCATION:America/New_York
BEGIN:DAYLIGHT
DTSTART:20200308T030000
TZOFFSETFROM:-0500
TZOFFSETTO:-0400
TZNAME:EDT
END:DAYLIGHT
END:VTIMEZONE
END:VCALENDAR